BEGIN:VCALENDAR
VERSION:2.0
PRODID:-//hacksw/handcal//NONSGML v1.0//EN
BEGIN:VEVENT
SUMMARY:Assemblee Generale Annuelle du Club Gymnique Bouliacais
UID:a5078926-621c-4630-acdf-77d78dfca929
DTSTART:20260307T090000Z
DTEND:20260307T110000Z
LOCATION:Localisation 3, rue de l'Eglise  Bouliac
CATEGORIES:Administratif
STATUS:
DESCRIPTION:<p>Prochaine Assemblee Generale Ordinaire le 7 mars 2026
 Salle Rambaud, 3, rue de l'Eglise a Bouliac</p>
 
 <p><a
 href="https://www.clubgymniquebouliacais.com/saison-2025-2026/actualites-du-club/proces-verbal-dassemblee-generale-ordinaire-du-7-mars-2026-1241915">Voir
 le compte-rendu</a></p>
URL;VALUE=URI:https://www.clubgymniquebouliacais.com/evenements/2026/03/07/assemblee-generale-annuelle-du-club-gymnique-bouliacais-2423221
END:VEVENT
END:VCALENDAR
